BEGIN:VCALENDAR
VERSION:2.0
PRODID:-//Tukios.com/
BEGIN:VEVENT
UID:74ec90d1-4187-49f4-8275-5909a1f9eb59@www.ctbakerfuneral.com
DTSTAMP:20260422T223709Z
DTSTART:20260424T220000Z
DTEND:20260425T000000Z
SUMMARY:Visitation
DESCRIPTION:
URL:https://www.ctbakerfuneral.com/obituaries/michael-don-azbell
LOCATION:West Columbia Volunteer Fire Department 314 E Clay Street  West 
	Columbia TX 77486
GEO:29.1430141;-95.6450787
END:VEVENT
END:VCALENDAR