BEGIN:VCALENDAR
VERSION:2.0
PRODID:-//Tukios.com/
BEGIN:VEVENT
UID:c42db8fb-ae63-4f6d-a43e-6c09993e8d71@www.ctbakerfuneral.com
DTSTAMP:20260422T223709Z
DTSTART:20260425T150000Z
DTEND:20260425T160000Z
SUMMARY:Funeral Service
DESCRIPTION:
URL:https://www.ctbakerfuneral.com/obituaries/michael-don-azbell
LOCATION: 634 S Columbia Dr  West Columbia TX 77486
GEO:29.1403366;-95.6550092
END:VEVENT
END:VCALENDAR