BEGIN:VCALENDAR
VERSION:2.0
PRODID:-//Tukios.com/
BEGIN:VEVENT
UID:60bbe28b-01ad-4946-a579-a128db866f97@www.ctbakerfuneral.com
DTSTAMP:20260422T223445Z
DTSTART:20260425
SUMMARY:Burial
DESCRIPTION:
URL:https://www.ctbakerfuneral.com/obituaries/michael-don-azbell
LOCATION: 401 S 16th St  West Columbia TX 77486
GEO:29.1398208;-95.6486356
END:VEVENT
END:VCALENDAR